BEGIN:VCALENDAR
VERSION:2.0
PRODID:-//Women In Securities Litigation Network - ECPv6.15.20//NONSGML v1.0//EN
CALSCALE:GREGORIAN
METHOD:PUBLISH
X-WR-CALNAME:Women In Securities Litigation Network
X-ORIGINAL-URL:https://wsl-network.com
X-WR-CALDESC:Events for Women In Securities Litigation Network
REFRESH-INTERVAL;VALUE=DURATION:PT1H
X-Robots-Tag:noindex
X-PUBLISHED-TTL:PT1H
BEGIN:VTIMEZONE
TZID:America/New_York
BEGIN:DAYLIGHT
TZOFFSETFROM:-0500
TZOFFSETTO:-0400
TZNAME:EDT
DTSTART:20200308T070000
END:DAYLIGHT
BEGIN:STANDARD
TZOFFSETFROM:-0400
TZOFFSETTO:-0500
TZNAME:EST
DTSTART:20201101T060000
END:STANDARD
BEGIN:DAYLIGHT
TZOFFSETFROM:-0500
TZOFFSETTO:-0400
TZNAME:EDT
DTSTART:20210314T070000
END:DAYLIGHT
BEGIN:STANDARD
TZOFFSETFROM:-0400
TZOFFSETTO:-0500
TZNAME:EST
DTSTART:20211107T060000
END:STANDARD
BEGIN:DAYLIGHT
TZOFFSETFROM:-0500
TZOFFSETTO:-0400
TZNAME:EDT
DTSTART:20220313T070000
END:DAYLIGHT
BEGIN:STANDARD
TZOFFSETFROM:-0400
TZOFFSETTO:-0500
TZNAME:EST
DTSTART:20221106T060000
END:STANDARD
BEGIN:DAYLIGHT
TZOFFSETFROM:-0500
TZOFFSETTO:-0400
TZNAME:EDT
DTSTART:20230312T070000
END:DAYLIGHT
BEGIN:STANDARD
TZOFFSETFROM:-0400
TZOFFSETTO:-0500
TZNAME:EST
DTSTART:20231105T060000
END:STANDARD
BEGIN:DAYLIGHT
TZOFFSETFROM:-0500
TZOFFSETTO:-0400
TZNAME:EDT
DTSTART:20240310T070000
END:DAYLIGHT
BEGIN:STANDARD
TZOFFSETFROM:-0400
TZOFFSETTO:-0500
TZNAME:EST
DTSTART:20241103T060000
END:STANDARD
BEGIN:DAYLIGHT
TZOFFSETFROM:-0500
TZOFFSETTO:-0400
TZNAME:EDT
DTSTART:20250309T070000
END:DAYLIGHT
BEGIN:STANDARD
TZOFFSETFROM:-0400
TZOFFSETTO:-0500
TZNAME:EST
DTSTART:20251102T060000
END:STANDARD
BEGIN:DAYLIGHT
TZOFFSETFROM:-0500
TZOFFSETTO:-0400
TZNAME:EDT
DTSTART:20260308T070000
END:DAYLIGHT
BEGIN:STANDARD
TZOFFSETFROM:-0400
TZOFFSETTO:-0500
TZNAME:EST
DTSTART:20261101T060000
END:STANDARD
BEGIN:DAYLIGHT
TZOFFSETFROM:-0500
TZOFFSETTO:-0400
TZNAME:EDT
DTSTART:20270314T070000
END:DAYLIGHT
BEGIN:STANDARD
TZOFFSETFROM:-0400
TZOFFSETTO:-0500
TZNAME:EST
DTSTART:20271107T060000
END:STANDARD
END:VTIMEZONE
BEGIN:VEVENT
DTSTART;TZID=America/New_York:20260407T170000
DTEND;TZID=America/New_York:20260407T190000
DTSTAMP:20260420T050649
CREATED:20260323T195406Z
LAST-MODIFIED:20260323T203015Z
UID:2075-1775581200-1775588400@wsl-network.com
SUMMARY:Lessons Learned: Reflections on Law\, Leadership\, and Balance from Leading Women in Securities Litigation
DESCRIPTION:Join us for an insightful conversation hosted by the Associates Committee of the Women in Securities Litigation Network\, where leading women in securities litigation will share key lessons from their careers. The panel will cover managing difficult cases and opposing counsel\, working with peers\, learning from mistakes\, transitioning to leadership\, balancing work and life\, and the impact of mentorship. Gain practical insights and candid advice for navigating the challenges of legal practice and life beyond the office. \nProgram Schedule: \n\nRegistration: 5:00 – 5:30 PM ET\nPanel: 5:30 – 6:30 PM ET\nReception: 6:30 – 7:00 PM ET\n\nSpeakers:  \n\nJoni Jacobsen\, Global Co-Chair\, Securities and Complex Litigation & Partner\, Dechert LLP (New York)\nCourtney Quirós\, Partner\, Alston & Bird (Atlanta)\nErika Schutzman\, Partner\, WilmerHale (Boston)\n\nRegistration: \n\nClick here to register to attend in-person.\nClick here to register to attend virtually.\n\nQuestions? \nPlease contact Lindsey Fisher at lindsey.fisher@alston.com or +1 212-210-9445.
URL:https://wsl-network.com/occasion/lessons-learned-reflections-on-law-leadership-and-balance-from-leading-women-in-securities-litigation/
LOCATION:Alston & Bird\, 90 Park Ave\, New York\, NY\, 10016\, United States
CATEGORIES:News,Talks,Upcoming Events
END:VEVENT
BEGIN:VEVENT
DTSTART;TZID=America/New_York:20260304T180000
DTEND;TZID=America/New_York:20260304T200000
DTSTAMP:20260420T050649
CREATED:20260226T161324Z
LAST-MODIFIED:20260323T200215Z
UID:2027-1772647200-1772654400@wsl-network.com
SUMMARY:Trends in Securities Litigation
DESCRIPTION:The Women in Securities Litigation (WSL) Network invites you to an exclusive panel discussion featuring a powerhouse lineup of women who are leading the way in securities litigation and enforcement. \nWhether you join us in person or virtually\, this session offers a deep dive into the evolving legal landscape. Our expert panelists—hailing from plaintiffs’ bar\, defense bar\, and a top-tier economic consulting firm—will break down the latest litigation trends and unveil fresh research on securities filings that you won’t want to miss. \nThere are three ways to participate: in person in Washington\, DC at the Fried\, Frank\, Harris\, Shriver & Jacobson office; in person at the New York Watch Party at vibrant Japanese hotspot Zuma Restaurant; or virtually. \nFor our in-person guests\, the evening will begin with a 30-minute welcome reception. Our virtual program will start shortly after for a 45-minute panel discussion at the following times: 6:30pm ET | 5:30pm CT | 3:30pm PT. \nWe’ll conclude the event with a networking session for our on-site attendees. We hope you’ll be able to join us. \nWays to attend: \nAttend in Washington\, D.C. \n\n\n\nWednesday\, March 4\n6:00–6:30pm ET Welcome reception\n6:30–7:15pm ET Panel discussion\n7:15–8:00pm ET Networking session\n\n\n\nFried\, Frank\, Harris\, Shriver & Jacobson\n801 17th Street NW\nWashington\, DC 20006 \nClick here to register for Washington\, D.C. \nAttend the New York Watch Party \nZuma Restaurant\n261 Madison Avenue\nNew York\, NY 10016 \nClick here to register for New York Watch Party. \nAttend the Panel via Zoom\nClick here to register for Zoom. \nOur featured panelists for this event include: \nMolly J. Bowen\nPartner | Cohen Milstein Sellers & Toll \nMolly J. Bowen represents public pension funds and other institutional investors in high-stakes securities class actions and shareholder derivative lawsuits. She has played a leading role in several pivotal lawsuits of the past decade\, notably securing the $1 billion Wells Fargo settlement—the 17th largest in history—and a $180 million settlement in the FirstEnergy derivative litigation. A recognized leader in the plaintiffs’ bar\, Molly has been honored with the National Law Journal’s Elite Trial Lawyers Women of the Plaintiffs Bar Award and named one of Bloomberg Law’s “They’ve Got Next: 40 Under 40.” \nKatherine (Kate) St. Romain\nPartner | Fried\, Frank\, Harris\, Shriver & Jacobson \nKate St. Romain focuses on securities litigation\, regulatory matters\, and complex corporate investigations\, representing clients against high-stakes Exchange Act and DTSA claims. A thought leader in emerging legal trends\, Kate recently published extensive analysis on litigation risks and securities claims arising from the AI boom. Kate is also a dedicated pro bono advocate\, earning a multiyear spot on the Capital Pro Bono Honor Roll and the Jack Wasserman Memorial Award for her work in immigration law. The American Lawyer has recognized her for litigation excellence\, and Law360 twice named her a “Legal Lion.” \nJennifer Marietta-Westberg\nVice President | Cornerstone Research \nJennifer Marietta-Westberg is the head of Cornerstone Research’s Washington\, DC office and coheads the firm’s corporate and government investigations practice. An experienced expert witness\, Jennifer consults on complex economic and financial issues in securities class actions\, ERISA matters\, and regulatory enforcement actions. She previously spent a decade at the SEC\, serving as Deputy Chief Economist and Deputy Director of DERA. A recognized leader in her field\, Jennifer has chaired the SEC’s Investor Advisory Committee and was recently named to Consulting Magazine’s 2025 list of Women Leaders in Consulting for Excellence in Client Service.
URL:https://wsl-network.com/occasion/trends-in-securities-litigation/
LOCATION:NY
CATEGORIES:News,Talks
ATTACH;FMTTYPE=image/jpeg:https://wsl-network.com/wp-content/uploads/Become-a-member.jpeg
END:VEVENT
BEGIN:VEVENT
DTSTART;TZID=America/New_York:20251029T180000
DTEND;TZID=America/New_York:20251029T193000
DTSTAMP:20260420T050650
CREATED:20251003T185309Z
LAST-MODIFIED:20260323T203619Z
UID:1926-1761760800-1761766200@wsl-network.com
SUMMARY:Judicial Panel: Paths\, Perspectives\, & Best Practices
DESCRIPTION:Join the Women in Securities Litigation (WSL) Network on Wednesday\, October 29\, 2025\, for a panel discussion and reception at One Manhattan West in New York. This engaging program will feature distinguished jurists\, including from the U.S. District Courts for the Southern and Eastern Districts of New York. The discussion will explore their unique paths to the bench\, experiences presiding over complex cases—including securities matters—and practical guidance for practitioners. Panelists will share candid insights on courtroom best practices\, common missteps among litigants\, and advice for practitioners\, including the next generation of lawyers. \nThis event is open to all legal professionals and promises valuable takeaways for practitioners at every stage of their careers. \nPanelists \n\nHon. Hector Gonzalez\, United States District Judge\, Eastern District of New York\nHon. Denise Cote\, United States District Judge\, Southern District of New York\nHon. Nusrat Choudhury\, United States District Judge\, Eastern District of New York\n\nSkadden\, Arps\, Slate\, Meagher & Flom LLP (New York – Live)\nOne Manhattan West\, 395 9th Avenue\, New York \nFried\, Frank\, Harris\, Shriver & Jacobson LLP (DC Watch Party)\n801 17th Street\, NW Washington\, DC \nVirtual Link also available
URL:https://wsl-network.com/occasion/judicial-panel-paths-perspectives-best-practices/
LOCATION:Skadden\, Arps\, Slate\, Meagher & Flom LLP and Affiliates\, One Manhattan West\, 395 9th Ave\, New York\, NY\, 10001\, United States
CATEGORIES:News,Talks
ATTACH;FMTTYPE=image/jpeg:https://wsl-network.com/wp-content/uploads/Events.jpeg
END:VEVENT
BEGIN:VEVENT
DTSTART;TZID=America/New_York:20250930T170000
DTEND;TZID=America/New_York:20250930T190000
DTSTAMP:20260420T050650
CREATED:20250917T221457Z
LAST-MODIFIED:20260323T200355Z
UID:1905-1759251600-1759258800@wsl-network.com
SUMMARY:Glasshouse Chelsea - NYC with BRG and Bridge Transcends
DESCRIPTION:Join BRG\, Bridge Transcends\, and Women in Securities Litigation for an evening of connection and conversation at The Glasshouse Chelsea. Enjoy an exclusive opportunity to mix and mingle with fellow professionals in financial lines and securities litigation at one of NYC’s most stunning venues. It’s the perfect blend of industry insight and elevated fun – we look forward to seeing you there! Spots are limited\, register here.
URL:https://wsl-network.com/occasion/glasshouse-chelsea-nyc-with-brg-and-bridge-transcends/
LOCATION:Glasshouse Chelsea\, 545 W 25th St 20th Floor\, New York\, NY\, 10001\, United States
CATEGORIES:Talks
END:VEVENT
BEGIN:VEVENT
DTSTART;TZID=America/New_York:20231109T173000
DTEND;TZID=America/New_York:20231109T183000
DTSTAMP:20260420T050650
CREATED:20231010T141843Z
LAST-MODIFIED:20260323T200423Z
UID:1425-1699551000-1699554600@wsl-network.com
SUMMARY:Mediation Perspectives: A Collaborative Panel for Insurers\, Mediators and Securities Litigators
DESCRIPTION:Please join Women in Securities Litigation Network and The Bridge Transcends for an engaging panel discussing current issues in mediation from a variety of perspectives: mediator\, carrier\, broker\, coverage counsel and defense counsel. \nTopics to include: \n\nNuts and bolts of mediation and settlement\nCurrent trends in securities and derivative litigation mediation and settlement\nBest practices in working together to achieve favorable results\n\nPanelists: \n\nTricia Melly / Carrier\, AXA/XL\nSimone Lelchuk / Mediator\nAshley Heintz / Defense Counsel\, Jones Day\nTrudy Hardin / Broker\, Aon\nKim Melvin / Coverage Counsel\, Wiley Rien\n\nPlease click here to register.
URL:https://wsl-network.com/occasion/mediation-perspectives-a-collaborative-panel-for-insurers-mediators-and-securities-litigators/
LOCATION:Dechert LLP\, Three Bryant Park\, 1095 Avenue of the Americas\, New York\, NY\, 10036-6797\, United States
CATEGORIES:Talks
END:VEVENT
BEGIN:VEVENT
DTSTART;TZID=America/New_York:20230517T163000
DTEND;TZID=America/New_York:20230517T173000
DTSTAMP:20260420T050650
CREATED:20230612T192259Z
LAST-MODIFIED:20260323T200450Z
UID:1361-1684341000-1684344600@wsl-network.com
SUMMARY:Judicial Panel
DESCRIPTION:Please join the WSL Network for a networking reception and panel discussion featuring a distinguished group of jurists from the U.S. District Court for the Southern and Eastern Districts of New York. During the event\, the panel will discuss their paths to the bench\, tips on best practices and other relevant topics of interest. \nPanelists: \n\nHon. Denise Cote / District Judge\, U.S. District for the Southern District of New York\nHon. LaShann DeArcy Hall / District Judge\, U.S. District for the Eastern District of New York\nHon. Rachel Kovner / District Judge\, U.S. District for the Eastern District of New York\nHon. Lori Will / Vice Chancellor\, Delaware Court of Chancery
URL:https://wsl-network.com/occasion/judicial-panel/
LOCATION:NY
CATEGORIES:Talks
END:VEVENT
BEGIN:VEVENT
DTSTART;TZID=America/New_York:20220412T170000
DTEND;TZID=America/New_York:20220412T180000
DTSTAMP:20260420T050650
CREATED:20220310T182556Z
LAST-MODIFIED:20260323T200522Z
UID:802-1649782800-1649786400@wsl-network.com
SUMMARY:Mediator Panel
DESCRIPTION:Please join the WSL Network for a virtual panel featuring three accomplished female mediators. They will discuss their paths to serving as mediators\, their views of effective mediation and their experiences as women in this space. \nPlease click here to RSVP. You are invited to join an in-person watch party\, which will be followed by a networking cocktail event in the below locations (advance registration and proof of vaccination required). You can also attend the panel virtually. \n \nThe WSL Network was founded to promote and support collaboration\, networking\, profile-raising and mentoring among women who practice in or are associated with the field of securities litigation defense.
URL:https://wsl-network.com/occasion/mediator-panel/
LOCATION:NY
CATEGORIES:Talks
END:VEVENT
BEGIN:VEVENT
DTSTART;TZID=America/New_York:20211118T170000
DTEND;TZID=America/New_York:20211118T183000
DTSTAMP:20260420T050650
CREATED:20211110T172717Z
LAST-MODIFIED:20260323T200549Z
UID:273-1637254800-1637260200@wsl-network.com
SUMMARY:Kick-Off Event
DESCRIPTION:About our Keynote\n\n\n\n\n\n\n\n\n\n\n\n\n\n\n\n\n\nJill A. Centella\nManaging Director\, Global Head of Litigation\, Government Investigations and Human Resources | JPMorgan Chase & Co.Ms. Centella graduated\, summa cum laude\, from the University of Illinois College of Law in 1993 and was admitted to the Illinois State Bar in 1993. Ms. Centella has been with JPMorgan Chase or its predecessor entities since 1997. Prior to joining JPMorgan Chase\, Ms. Centella was an associate at Jones Day in Chicago and was a Law Clerk to the Honorable James F. Holderman in the U.S. District Court for the Northern District of Illinois.Jill has been married to her husband\, Whit Kuhn\, a public school teacher\, for 27 years\, and they have two children. Julia is 25 and Luke is 22.\n\n\n\nRegister Here
URL:https://wsl-network.com/occasion/kick-off-event/
LOCATION:NY
CATEGORIES:Talks
END:VEVENT
END:VCALENDAR